BEGIN:VCALENDAR
VERSION:2.0
PRODID:-//wp-events-plugin.com//7.2.3//EN
TZID:Europe/Madrid
X-WR-TIMEZONE:Europe/Madrid
BEGIN:VEVENT
UID:756@elshostaletsdepierola.cat
DTSTART:20190403T083000Z
DTEND:20190403T163000Z
DTSTAMP:20190401T132203Z
URL:https://elshostaletsdepierola.cat/events/3-abril-caminada-a-santa-marg
 arida-i-els-monjos/
SUMMARY:3 abril. Caminada a Santa Margarida i els Monjos
DESCRIPTION:
ATTACH;FMTTYPE=image/jpeg:https://elshostaletsdepierola.cat/wp-content/upl
 oads/2019/04/caminada-santa-margarida-i-els-monjos.jpg
CATEGORIES:Esdeveniments,Gent Gran
LOCATION:Plaça dels Països Catalans\, Plaça dels Països Catalans\, Els 
 Hostalets de Pierola\, Espanya
X-APPLE-STRUCTURED-LOCATION;VALUE=URI;X-ADDRESS=Plaça dels Països Catalan
 s\, Els Hostalets de Pierola\, Espanya;X-APPLE-RADIUS=100;X-TITLE=Plaça d
 els Països Catalans:geo:0,0
END:VEVENT
END:VCALENDAR