BEGIN:VCALENDAR
VERSION:2.0
PRODID:-//wp-events-plugin.com//7.2.3//EN
TZID:Europe/Madrid
X-WR-TIMEZONE:Europe/Madrid
BEGIN:VEVENT
UID:1287@elshostaletsdepierola.cat
DTSTART:20210703T180000Z
DTEND:20210704T123000Z
DTSTAMP:20210701T064136Z
URL:https://elshostaletsdepierola.cat/events/3-i-4-juliol-festa-major-can-
 fosalba/
SUMMARY:3 i 4 juliol. Festa Major Can Fosalba
DESCRIPTION:
ATTACH;FMTTYPE=image/jpeg:https://elshostaletsdepierola.cat/wp-content/upl
 oads/2021/06/festa-major-can-fosalba.png
CATEGORIES:Can Fosalba,Esdeveniments,Estiu,Festes,newsletter
LOCATION:Casal Montserrat Can Fosalba\, Can Fosalba\, Els Hostalets de Pier
 ola\, Espanya
GEO:41.5444542;1.8107836000000361
X-APPLE-STRUCTURED-LOCATION;VALUE=URI;X-ADDRESS=Can Fosalba\, Els Hostalets
  de Pierola\, Espanya;X-APPLE-RADIUS=100;X-TITLE=Casal Montserrat Can Fosa
 lba:geo:41.5444542,1.8107836000000361
END:VEVENT
END:VCALENDAR