BEGIN:VCALENDAR
VERSION:2.0
PRODID:-//wp-events-plugin.com//7.2.3//EN
TZID:Europe/Madrid
X-WR-TIMEZONE:Europe/Madrid
BEGIN:VEVENT
UID:310@elshostaletsdepierola.cat
DTSTART:20170603T170000Z
DTEND:20170603T210000Z
DTSTAMP:20170530T110525Z
URL:https://elshostaletsdepierola.cat/events/3-juny-trobada-combos-cal-mar
 istany/
SUMMARY:3 juny. Trobada de Combos del CEM Cal Maristany
DESCRIPTION:Aquest dissabte\, 3 de juny el CEM Cal Maristany organitza la T
 robada de Combos de la Zona 7 de l’Associació Catalana d’Escoles de M
 úsica.\n\nTota la info aquí.
ATTACH;FMTTYPE=image/jpeg:https://elshostaletsdepierola.cat/wp-content/upl
 oads/2017/05/Trobada-combos-170603.jpg
CATEGORIES:Cultura,Esdeveniments,newsletter
LOCATION:CEM Cal Maristany\, Anselm Clavé s/n\, Els Hostalets de Pierola\,
  Barcelona\, Espanya
GEO:41.5332307;1.772399500000006
X-APPLE-STRUCTURED-LOCATION;VALUE=URI;X-ADDRESS=Anselm Clavé s/n\, Els Hos
 talets de Pierola\, Barcelona\, Espanya;X-APPLE-RADIUS=100;X-TITLE=CEM Cal
  Maristany:geo:41.5332307,1.772399500000006
END:VEVENT
END:VCALENDAR