BEGIN:VCALENDAR
VERSION:2.0
PRODID:-//wp-events-plugin.com//7.2.3//EN
TZID:Europe/Madrid
X-WR-TIMEZONE:Europe/Madrid
BEGIN:VEVENT
UID:596@elshostaletsdepierola.cat
DTSTART:20180830T220000Z
DTEND:20180830T233000Z
DTSTAMP:20180827T100140Z
URL:https://elshostaletsdepierola.cat/events/30-agost-cinema-a-la-fresca-t
 oc-toc/
SUMMARY:30 agost. Cinema a la fresca: Toc-toc
DESCRIPTION:Nova sessió de cinema a la fresca amb la pel·lícula: Toc-toc
 .\n\n
ATTACH;FMTTYPE=image/jpeg:https://elshostaletsdepierola.cat/wp-content/upl
 oads/2018/08/cinema-30-agost-toc-toc.jpg
CATEGORIES:Cultura,Esdeveniments,newsletter
LOCATION:Poliesportiu dels Hostalets de Pierola\, Carrer Catalunya s/n\, El
 s Hostalets de Pierola\, Espanya
GEO:40.2016899;-3.8706052
X-APPLE-STRUCTURED-LOCATION;VALUE=URI;X-ADDRESS=Carrer Catalunya s/n\, Els 
 Hostalets de Pierola\, Espanya;X-APPLE-RADIUS=100;X-TITLE=Poliesportiu del
 s Hostalets de Pierola:geo:40.2016899,-3.8706052
END:VEVENT
END:VCALENDAR