BEGIN:VCALENDAR
VERSION:2.0
PRODID:-//wp-events-plugin.com//7.2.3//EN
TZID:Europe/Madrid
X-WR-TIMEZONE:Europe/Madrid
BEGIN:VEVENT
UID:860@elshostaletsdepierola.cat
DTSTART:20190830T210000Z
DTEND:20190830T233000Z
DTSTAMP:20190829T044549Z
URL:https://elshostaletsdepierola.cat/events/30-agost-sopar-de-germanor-sa
 lam/
SUMMARY:30 agost. Sopar de germanor (Salam)
DESCRIPTION:
ATTACH;FMTTYPE=image/jpeg:https://elshostaletsdepierola.cat/wp-content/upl
 oads/2019/08/salam18.jpg
CATEGORIES:Cultura,Esdeveniments,newsletter
LOCATION:Plaça de les Oliveres\, carrer de Catalunya s/n\, Els Hostalets d
 e Pierola\, 08781\, Catalunya\, Espanya
GEO:41.532476;1.7700234000000137
X-APPLE-STRUCTURED-LOCATION;VALUE=URI;X-ADDRESS=carrer de Catalunya s/n\, E
 ls Hostalets de Pierola\, 08781\, Catalunya\, Espanya;X-APPLE-RADIUS=100;X
 -TITLE=Plaça de les Oliveres:geo:41.532476,1.7700234000000137
END:VEVENT
END:VCALENDAR