BEGIN:VCALENDAR
VERSION:2.0
PRODID:-//wp-events-plugin.com//7.2.3//EN
TZID:Europe/Madrid
X-WR-TIMEZONE:Europe/Madrid
BEGIN:VEVENT
UID:1159@elshostaletsdepierola.cat
DTSTART:20201030T160000Z
DTEND:20201030T170000Z
DTSTAMP:20201029T203717Z
URL:https://elshostaletsdepierola.cat/events/30-octubre-lhora-del-conte/
SUMMARY:30 octubre. L'hora del conte (Cancel·lat)
DESCRIPTION:
ATTACH;FMTTYPE=image/jpeg:https://elshostaletsdepierola.cat/wp-content/upl
 oads/2020/10/hc3010.png
CATEGORIES:Cultura,Esdeveniments,newsletter
LOCATION:Biblio@ccés\, Anselm Clavé\, 6\, Els Hostalets de Pierola\, Espa
 nya
GEO:41.53285;1.7733405000000175
X-APPLE-STRUCTURED-LOCATION;VALUE=URI;X-ADDRESS=Anselm Clavé\, 6\, Els Hos
 talets de Pierola\, Espanya;X-APPLE-RADIUS=100;X-TITLE=Biblio@ccés:geo:41
 .53285,1.7733405000000175
END:VEVENT
END:VCALENDAR