BEGIN:VCALENDAR
VERSION:2.0
PRODID:-//wp-events-plugin.com//7.2.3//EN
TZID:Europe/Madrid
X-WR-TIMEZONE:Europe/Madrid
BEGIN:VEVENT
UID:865@elshostaletsdepierola.cat
DTSTART:20190831T140000Z
DTEND:20190831T180000Z
DTSTAMP:20190829T044739Z
URL:https://elshostaletsdepierola.cat/events/31-agost-dinar-del-soci-de-la
 -gent-gran/
SUMMARY:31 agost. Dinar del soci de la gent gran
DESCRIPTION:Dinar del soci que organitza la junta de l'Associació de la Ge
 nt Gran dels Hostalets de Pierola. A partir de les 5 de la tarda hi haurà
  cantada d'havaneres obert a tothom.
ATTACH;FMTTYPE=image/jpeg:https://elshostaletsdepierola.cat/wp-content/upl
 oads/2018/08/dinar-casal-avis-17.jpg
CATEGORIES:Esdeveniments,Gent Gran,newsletter
LOCATION:Plaça de Cal Figueres\, Plaça de Cal Figueres\, Els Hostalets de
  Pierola\, Spain\, 08781\, Espanya
GEO:41.5322568;1.797712400000023
X-APPLE-STRUCTURED-LOCATION;VALUE=URI;X-ADDRESS=Plaça de Cal Figueres\, El
 s Hostalets de Pierola\, Spain\, 08781\, Espanya;X-APPLE-RADIUS=100;X-TITL
 E=Plaça de Cal Figueres:geo:41.5322568,1.797712400000023
END:VEVENT
END:VCALENDAR