BEGIN:VCALENDAR
VERSION:2.0
PRODID:-//wp-events-plugin.com//7.2.3//EN
TZID:Europe/Madrid
X-WR-TIMEZONE:Europe/Madrid
BEGIN:VEVENT
UID:602@elshostaletsdepierola.cat
DTSTART:20180831T133000Z
DTEND:20180831T143000Z
DTSTAMP:20180828T093738Z
URL:https://elshostaletsdepierola.cat/events/31-agost-ple-extraordinari-aj
 untament-hostalets-pierola/
SUMMARY:31 agost. Ple Extraordinari Ajuntament Hostalets de Pierola
DESCRIPTION:Tota la informació i el decret de convocatòria aquí.
ATTACH;FMTTYPE=image/jpeg:https://elshostaletsdepierola.cat/wp-content/upl
 oads/2016/01/Ho.jpg
CATEGORIES:Esdeveniments,newsletter
LOCATION:Ajuntament dels Hostalets de Pierola\, Plaça Cal Figueres 1\, Hos
 talets de Pierola\, Espanya
GEO:41.5348287;1.7685406000000512
X-APPLE-STRUCTURED-LOCATION;VALUE=URI;X-ADDRESS=Plaça Cal Figueres 1\, Hos
 talets de Pierola\, Espanya;X-APPLE-RADIUS=100;X-TITLE=Ajuntament dels Hos
 talets de Pierola:geo:41.5348287,1.7685406000000512
END:VEVENT
END:VCALENDAR