BEGIN:VCALENDAR
VERSION:2.0
PRODID:-//wp-events-plugin.com//7.2.3//EN
TZID:Europe/Madrid
X-WR-TIMEZONE:Europe/Madrid
BEGIN:VEVENT
UID:678@elshostaletsdepierola.cat
DTSTART:20190101T010000Z
DTEND:20190101T080000Z
DTSTAMP:20181228T100548Z
URL:https://elshostaletsdepierola.cat/events/31-desembre-festa-cap-dany-al
 -casal-catala/
SUMMARY:31 desembre. Festa Cap d'any al Casal Català
DESCRIPTION:Celebra el nou any amb bona música i envoltat dels teus amics\
 , veïns i coneguts!\nBalla\, xerra i gaudeix d’una espectacular entrada
  al 2019!
ATTACH;FMTTYPE=image/jpeg:https://elshostaletsdepierola.cat/wp-content/upl
 oads/2018/12/festa-cap-any.jpg
CATEGORIES:Cultura,Esdeveniments,Joventut,newsletter
LOCATION:Casal Català\, Isidre Vallès\, 30\, Els Hostalets de Pierola\, C
 atalunya\, 808781\, Espanya
GEO:41.5334999;1.7705200000000332
X-APPLE-STRUCTURED-LOCATION;VALUE=URI;X-ADDRESS=Isidre Vallès\, 30\, Els H
 ostalets de Pierola\, Catalunya\, 808781\, Espanya;X-APPLE-RADIUS=100;X-TI
 TLE=Casal Català:geo:41.5334999,1.7705200000000332
END:VEVENT
END:VCALENDAR