BEGIN:VCALENDAR
VERSION:2.0
PRODID:-//wp-events-plugin.com//7.2.3//EN
TZID:Europe/Madrid
X-WR-TIMEZONE:Europe/Madrid
BEGIN:VEVENT
UID:231@elshostaletsdepierola.cat
DTSTART:20161231T180000Z
DTEND:20161231T210000Z
DTSTAMP:20161227T214410Z
URL:https://elshostaletsdepierola.cat/events/31-desembre-festa-cap-dany-ca
 sal-davis/
SUMMARY:31 desembre: Festa de Cap d'Any al Casal d'Avis
DESCRIPTION:
CATEGORIES:Cultura,Esdeveniments,newsletter
LOCATION:Casal d'avis\, Plaça Cal Figueres 1\, Hostalets de Pierola\, Espa
 nya
GEO:41.5348287;1.7685406000000512
X-APPLE-STRUCTURED-LOCATION;VALUE=URI;X-ADDRESS=Plaça Cal Figueres 1\, Hos
 talets de Pierola\, Espanya;X-APPLE-RADIUS=100;X-TITLE=Casal d'avis:geo:41
 .5348287,1.7685406000000512
END:VEVENT
END:VCALENDAR