BEGIN:VCALENDAR
VERSION:2.0
PRODID:-//wp-events-plugin.com//7.2.3//EN
TZID:Europe/Madrid
X-WR-TIMEZONE:Europe/Madrid
BEGIN:VEVENT
UID:676@elshostaletsdepierola.cat
DTSTART:20181231T190000Z
DTEND:20181231T220000Z
DTSTAMP:20181227T112542Z
URL:https://elshostaletsdepierola.cat/events/31-desembre-home-dels-nassos/
SUMMARY:31 desembre. L'Home dels Nassos
DESCRIPTION:Visitarà els Hostalets de Pierola l'home que té tants nassos 
 com dies li falta a l'any.
CATEGORIES:Cultura,Esdeveniments
END:VEVENT
END:VCALENDAR