BEGIN:VCALENDAR
VERSION:2.0
PRODID:-//wp-events-plugin.com//7.2.3//EN
TZID:Europe/Madrid
X-WR-TIMEZONE:Europe/Madrid
BEGIN:VEVENT
UID:580@elshostaletsdepierola.cat
DTSTART:20180731T180000Z
DTEND:20180731T200000Z
DTSTAMP:20180727T111106Z
URL:https://elshostaletsdepierola.cat/events/31-juliol-sessio-practica-ant
 i-incedis-ladf/
SUMMARY:31 juliol. Sessió pràctica anti-incedis de l'ADF
DESCRIPTION:El cos de defensa forestal dels Hostalets de Pierola realitzar
 à una sessió pràctica amb els veïns i veïnes que vulguin participar.
ATTACH;FMTTYPE=image/jpeg:https://elshostaletsdepierola.cat/wp-content/upl
 oads/2018/07/practiques-contra-incendis-18.jpg
CATEGORIES:Esdeveniments
LOCATION:Casal Montserrat Can Fosalba\, Can Fosalba\, Els Hostalets de Pier
 ola\, Espanya
GEO:41.5444542;1.8107836000000361
X-APPLE-STRUCTURED-LOCATION;VALUE=URI;X-ADDRESS=Can Fosalba\, Els Hostalets
  de Pierola\, Espanya;X-APPLE-RADIUS=100;X-TITLE=Casal Montserrat Can Fosa
 lba:geo:41.5444542,1.8107836000000361
END:VEVENT
END:VCALENDAR