BEGIN:VCALENDAR
VERSION:2.0
PRODID:-//wp-events-plugin.com//7.2.3//EN
TZID:Europe/Madrid
X-WR-TIMEZONE:Europe/Madrid
BEGIN:VEVENT
UID:90@elshostaletsdepierola.cat
DTSTART;VALUE=DATE:20160331
DTEND;VALUE=DATE:20160401
DTSTAMP:20160324T122321Z
URL:https://elshostaletsdepierola.cat/events/31-marc-setmana-gent-gran-cam
 inada-gent-gran/
SUMMARY:31 de març. Setmana de la Gent Gran. Caminada de la Gent Gran
DESCRIPTION:Durant el dia: Caminada de la Gent Gran.\n\n18.00h. Espectacle:
  Manel el mag\, l'humorista màgic". Auditori de Cal Figueres.
ATTACH;FMTTYPE=image/jpeg:https://elshostaletsdepierola.cat/wp-content/upl
 oads/2016/03/caminada-gent-gran.jpg
CATEGORIES:Cultura,Esdeveniments,Gent Gran,newsletter
END:VEVENT
END:VCALENDAR