BEGIN:VCALENDAR
VERSION:2.0
PRODID:-//wp-events-plugin.com//7.2.3//EN
TZID:Europe/Madrid
X-WR-TIMEZONE:Europe/Madrid
BEGIN:VEVENT
UID:623@elshostaletsdepierola.cat
DTSTART:20181031T210000Z
DTEND:20181101T130000Z
DTSTAMP:20181015T103832Z
URL:https://elshostaletsdepierola.cat/events/31-octubre-1-novembre-festivi
 tat-de-tots-sants/
SUMMARY:31 octubre - 1 novembre: Festivitat de Tots Sants
DESCRIPTION:
ATTACH;FMTTYPE=image/jpeg:https://elshostaletsdepierola.cat/wp-content/upl
 oads/2018/10/tots-sants-18.jpg
CATEGORIES:Cultura,Esdeveniments
END:VEVENT
END:VCALENDAR