BEGIN:VCALENDAR
VERSION:2.0
PRODID:-//wp-events-plugin.com//7.2.3//EN
TZID:Europe/Madrid
X-WR-TIMEZONE:Europe/Madrid
BEGIN:VEVENT
UID:632@elshostaletsdepierola.cat
DTSTART:20181031T210000Z
DTEND:20181101T140000Z
DTSTAMP:20181025T072643Z
URL:https://elshostaletsdepierola.cat/events/31-octubre-1-novembre-tots-sa
 nts-als-hostalets-de-pierola/
SUMMARY:31 octubre - 1 novembre. Tots Sants als Hostalets de Pierola
DESCRIPTION:Tots els actes previstos per Tots Sants\, aquí
ATTACH;FMTTYPE=image/jpeg:https://elshostaletsdepierola.cat/wp-content/upl
 oads/2018/10/tots-sants-18-a.jpg
CATEGORIES:Cultura,Esdeveniments,Joventut,newsletter
END:VEVENT
END:VCALENDAR