BEGIN:VCALENDAR
VERSION:2.0
PRODID:-//wp-events-plugin.com//7.2.3//EN
TZID:Europe/Madrid
X-WR-TIMEZONE:Europe/Madrid
BEGIN:VEVENT
UID:2344@elshostaletsdepierola.cat
DTSTART;TZID=Europe/Madrid:20240102T170000
DTEND;TZID=Europe/Madrid:20240103T200000
DTSTAMP:20231205T135311Z
URL:https://elshostaletsdepierola.cat/events/3r-concurs-infantil-de-dioram
 es-de-clics/
SUMMARY:3r Concurs infantil de diorames de clics
DESCRIPTION:17.00 a 20.00 | Torre del Sr. Enric\n\nNova edició amb les pop
 ulars figures de Playmobil com a protagonistes.\n\nInscripció i muntatge:
  Dimarts 17.00\nLliurament de premis: Dimecres 19.00
CATEGORIES:Esdeveniments,Festes,Joventut
LOCATION:Torre del Senyor Enric\, Isidre Vallés\, 1\, Els Hostalets de Pie
 rola\, Spain\, 808781\, Espanya
GEO:41.5339863;1.7696766000000252
X-APPLE-STRUCTURED-LOCATION;VALUE=URI;X-ADDRESS=Isidre Vallés\, 1\, Els Ho
 stalets de Pierola\, Spain\, 808781\, Espanya;X-APPLE-RADIUS=100;X-TITLE=T
 orre del Senyor Enric:geo:41.5339863,1.7696766000000252
END:VEVENT
BEGIN:VTIMEZONE
TZID:Europe/Madrid
X-LIC-LOCATION:Europe/Madrid
BEGIN:STANDARD
DTSTART:20231029T020000
TZOFFSETFROM:+0200
TZOFFSETTO:+0100
TZNAME:CET
END:STANDARD
END:VTIMEZONE
END:VCALENDAR