BEGIN:VCALENDAR
VERSION:2.0
PRODID:-//wp-events-plugin.com//7.2.3//EN
TZID:Europe/Madrid
X-WR-TIMEZONE:Europe/Madrid
BEGIN:VEVENT
UID:347@elshostaletsdepierola.cat
DTSTART:20170804T200000Z
DTEND:20170806T180000Z
DTSTAMP:20170731T095638Z
URL:https://elshostaletsdepierola.cat/events/4-6-agost-festa-major-can-fos
 alba/
SUMMARY:4-6 agost. Festa Major de Can Fosalba
DESCRIPTION:El proper cap de setmana\, Can Fosalba celebra la seva Festa Ma
 jor!
ATTACH;FMTTYPE=image/jpeg:https://elshostaletsdepierola.cat/wp-content/upl
 oads/2017/07/FM-Can-Fosalba.jpg
CATEGORIES:Cultura,Esdeveniments,Joventut,newsletter
LOCATION:Casal Montserrat Can Fosalba\, Can Fosalba\, Els Hostalets de Pier
 ola\, Espanya
GEO:41.5444542;1.8107836000000361
X-APPLE-STRUCTURED-LOCATION;VALUE=URI;X-ADDRESS=Can Fosalba\, Els Hostalets
  de Pierola\, Espanya;X-APPLE-RADIUS=100;X-TITLE=Casal Montserrat Can Fosa
 lba:geo:41.5444542,1.8107836000000361
END:VEVENT
END:VCALENDAR