BEGIN:VCALENDAR
VERSION:2.0
PRODID:-//wp-events-plugin.com//7.2.3//EN
TZID:Europe/Madrid
X-WR-TIMEZONE:Europe/Madrid
BEGIN:VEVENT
UID:450@elshostaletsdepierola.cat
DTSTART:20180204T100000Z
DTEND:20180204T120000Z
DTSTAMP:20180201T143246Z
URL:https://elshostaletsdepierola.cat/events/4-febrer-aecc-anoia-marxa-cur
 sa-caminada/
SUMMARY:4 febrer. AECC Anoia en marxa. Cursa i caminada
DESCRIPTION:Tota la informació aquí.
ATTACH;FMTTYPE=image/jpeg:https://elshostaletsdepierola.cat/wp-content/upl
 oads/2018/01/marxa-cancer-igualada.jpg
CATEGORIES:Esdeveniments,Esport,newsletter
LOCATION:Estadi Atlèctic Municipal\, Av. Emili Vallès\, Igualada\, Barcel
 ona\, 08700\, Espanya
GEO:41.5831527;1.6036252000000104
X-APPLE-STRUCTURED-LOCATION;VALUE=URI;X-ADDRESS=Av. Emili Vallès\, Igualad
 a\, Barcelona\, 08700\, Espanya;X-APPLE-RADIUS=100;X-TITLE=Estadi Atlècti
 c Municipal:geo:41.5831527,1.6036252000000104
END:VEVENT
END:VCALENDAR