BEGIN:VCALENDAR
VERSION:2.0
PRODID:-//wp-events-plugin.com//7.2.3//EN
TZID:Europe/Madrid
X-WR-TIMEZONE:Europe/Madrid
BEGIN:VEVENT
UID:124@elshostaletsdepierola.cat
DTSTART:20160604T190000Z
DTEND:20160604T210000Z
DTSTAMP:20160527T111108Z
URL:https://elshostaletsdepierola.cat/events/4-juny-concert-melt/
SUMMARY:4 de juny. Concert de Mèlt
DESCRIPTION:El  quartet guanyador del programa "Oh Happy Day" en concert a
 ls Hostalets de Pierola
ATTACH;FMTTYPE=image/jpeg:https://elshostaletsdepierola.cat/wp-content/upl
 oads/2016/05/mELT.jpg
CATEGORIES:Cultura,Esdeveniments,newsletter
LOCATION:Sala Teatre Casal Català i Polideportivo Serra Alta\, Sala Teatre
  Casal Català i Polideportivo Serra Alta \, Els Hostalets de Pierola\, Es
 panya
GEO:41.5491483;1.7968682000000626
X-APPLE-STRUCTURED-LOCATION;VALUE=URI;X-ADDRESS=Sala Teatre Casal Català i
  Polideportivo Serra Alta \, Els Hostalets de Pierola\, Espanya;X-APPLE-RA
 DIUS=100;X-TITLE=Sala Teatre Casal Català i Polideportivo Serra Alta:geo:
 41.5491483,1.7968682000000626
END:VEVENT
END:VCALENDAR