BEGIN:VCALENDAR
VERSION:2.0
PRODID:-//wp-events-plugin.com//7.2.3//EN
TZID:Europe/Madrid
X-WR-TIMEZONE:Europe/Madrid
BEGIN:VEVENT
UID:392@elshostaletsdepierola.cat
DTSTART:20171104T220000Z
DTEND:20171104T235900Z
DTSTAMP:20171030T110915Z
URL:https://elshostaletsdepierola.cat/events/4-novembre-bosque-terror-serr
 a-alta/
SUMMARY:4 novembre. Bosque del terror a Serra Alta
DESCRIPTION:No et perdis una gran nit de por al 'Bosque del Terror' de Serr
 a Alta!
ATTACH;FMTTYPE=image/jpeg:https://elshostaletsdepierola.cat/wp-content/upl
 oads/2017/10/halloween-2017-2.jpg
CATEGORIES:Cultura,Esdeveniments,Joventut,newsletter
LOCATION:Local Social "polideportivo" Serra Alta\, Serra Alta\, Els Hostale
 ts de Pierola\, Barcelona\, Espanya
GEO:41.55165339991715;1.801503057177797
X-APPLE-STRUCTURED-LOCATION;VALUE=URI;X-ADDRESS=Serra Alta\, Els Hostalets 
 de Pierola\, Barcelona\, Espanya;X-APPLE-RADIUS=100;X-TITLE=Local Social \
 "polideportivo\" Serra Alta:geo:41.55165339991715,1.801503057177797
END:VEVENT
END:VCALENDAR