BEGIN:VCALENDAR
VERSION:2.0
PRODID:-//wp-events-plugin.com//7.2.3//EN
TZID:Europe/Madrid
X-WR-TIMEZONE:Europe/Madrid
BEGIN:VEVENT
UID:8@elshostaletsdepierola.cat
DTSTART:20151025T093000Z
DTEND:20151025T140000Z
DTSTAMP:20151019T060320Z
URL:https://elshostaletsdepierola.cat/events/4a-caminada-intergeneracional
 /
SUMMARY:4a Caminada Intergeneracional
DESCRIPTION:
ATTACH;FMTTYPE=image/jpeg:https://elshostaletsdepierola.cat/wp-content/upl
 oads/2015/10/Caminada_GGA_2015_DINA3finalbaix1.jpg
CATEGORIES:Esdeveniments
LOCATION:Aberg Can Roviralta\, Aberg Can Roviralta\, Els Hostalets de Piero
 la\, Espanya
GEO:41.5348287;1.7685406000000512
X-APPLE-STRUCTURED-LOCATION;VALUE=URI;X-ADDRESS=Aberg Can Roviralta\, Els H
 ostalets de Pierola\, Espanya;X-APPLE-RADIUS=100;X-TITLE=Aberg Can Roviral
 ta:geo:41.5348287,1.7685406000000512
END:VEVENT
END:VCALENDAR