BEGIN:VCALENDAR
VERSION:2.0
PRODID:-//wp-events-plugin.com//7.2.3//EN
TZID:Europe/Madrid
X-WR-TIMEZONE:Europe/Madrid
BEGIN:VEVENT
UID:262@elshostaletsdepierola.cat
DTSTART:20170205T180000Z
DTEND:20170208T200000Z
DTSTAMP:20170227T090855Z
URL:https://elshostaletsdepierola.cat/events/5-8-marc-dia-internacional-do
 nes/
SUMMARY:5 i 8 març. Dia Internacional de les Dones
DESCRIPTION:Tota la informació aquí.\n\n[google-drive-embed url="https://
 drive.google.com/a/elshostaletsdepierola.cat/file/d/0B8yJN10hLhQTVnNaTGdtc
 0dLaTA/preview?usp=drivesdk" title="Dia de la dona 2017_v4_web.pdf" icon="
 https://ssl.gstatic.com/docs/doclist/images/icon_12_pdf_list.png" width="1
 00%" height="400" style="embed"]
ATTACH;FMTTYPE=image/jpeg:https://elshostaletsdepierola.cat/wp-content/upl
 oads/2017/02/cartell-web-dia-de-dones-17.jpg
CATEGORIES:Esdeveniments,newsletter
LOCATION:Auditori de Cal Figueres\, Plaça Cal Figueres 1\, Hostalets de Pi
 erola\, Espanya
GEO:41.5348287;1.7685406000000512
X-APPLE-STRUCTURED-LOCATION;VALUE=URI;X-ADDRESS=Plaça Cal Figueres 1\, Hos
 talets de Pierola\, Espanya;X-APPLE-RADIUS=100;X-TITLE=Auditori de Cal Fig
 ueres:geo:41.5348287,1.7685406000000512
END:VEVENT
END:VCALENDAR