BEGIN:VCALENDAR
VERSION:2.0
PRODID:-//wp-events-plugin.com//7.2.3//EN
TZID:Europe/Madrid
X-WR-TIMEZONE:Europe/Madrid
BEGIN:VEVENT
UID:823@elshostaletsdepierola.cat
DTSTART:20190705T223000Z
DTEND:20190707T170000Z
DTSTAMP:20190701T095459Z
URL:https://elshostaletsdepierola.cat/events/5-al-7-juliol-festa-major-can
 -fosalba/
SUMMARY:5 al 7 juliol. Festa Major Can Fosalba
DESCRIPTION:
ATTACH;FMTTYPE=image/jpeg:https://elshostaletsdepierola.cat/wp-content/upl
 oads/2019/06/cartellfmcf19.png
CATEGORIES:Esdeveniments,Festes,newsletter
LOCATION:Casal Montserrat Can Fosalba\, Can Fosalba\, Els Hostalets de Pier
 ola\, Espanya
GEO:41.5444542;1.8107836000000361
X-APPLE-STRUCTURED-LOCATION;VALUE=URI;X-ADDRESS=Can Fosalba\, Els Hostalets
  de Pierola\, Espanya;X-APPLE-RADIUS=100;X-TITLE=Casal Montserrat Can Fosa
 lba:geo:41.5444542,1.8107836000000361
END:VEVENT
END:VCALENDAR