BEGIN:VCALENDAR
VERSION:2.0
PRODID:-//wp-events-plugin.com//7.2.3//EN
TZID:Europe/Madrid
X-WR-TIMEZONE:Europe/Madrid
BEGIN:VEVENT
UID:330@elshostaletsdepierola.cat
DTSTART:20170705T223000Z
DTEND:20170705T235900Z
DTSTAMP:20170705T074700Z
URL:https://elshostaletsdepierola.cat/events/5-juliol-concert-petits-sons-
 casal-catala/
SUMMARY:5 juliol. Concert "Petits Sons" al Casal Català
DESCRIPTION:Comença el cicle "Música a la fresca" organitzat pel Casal Ca
 talà. Avui\, dimecres\, 5 de juliol actuaran "Petits Sons"\, un grup jove
  que versiona peces de pop i rock.\n\nAneu agendant tota la programació d
 'aquest estiu!
ATTACH;FMTTYPE=image/jpeg:https://elshostaletsdepierola.cat/wp-content/upl
 oads/2017/07/5jul-concerts-a-la-fresca.jpg
CATEGORIES:Cultura,Esdeveniments
LOCATION:Casal Català\, Isidre Vallès\, 30\, Els Hostalets de Pierola\, C
 atalunya\, 808781\, Espanya
GEO:41.5334999;1.7705200000000332
X-APPLE-STRUCTURED-LOCATION;VALUE=URI;X-ADDRESS=Isidre Vallès\, 30\, Els H
 ostalets de Pierola\, Catalunya\, 808781\, Espanya;X-APPLE-RADIUS=100;X-TI
 TLE=Casal Català:geo:41.5334999,1.7705200000000332
END:VEVENT
END:VCALENDAR