BEGIN:VCALENDAR
VERSION:2.0
PRODID:-//wp-events-plugin.com//7.2.3//EN
TZID:Europe/Madrid
X-WR-TIMEZONE:Europe/Madrid
BEGIN:VEVENT
UID:562@elshostaletsdepierola.cat
DTSTART:20180707T180000Z
DTEND:20180707T200000Z
DTSTAMP:20180703T123510Z
URL:https://elshostaletsdepierola.cat/events/7-juliol-club-lectura-cinema-
 he-servit-rei-danglaterra/
SUMMARY:7 juliol. Club de Lectura i Cinema: 'Jo he servit el rei d'Anglater
 ra'
DESCRIPTION:
ATTACH;FMTTYPE=image/jpeg:https://elshostaletsdepierola.cat/wp-content/upl
 oads/2018/07/cartell-trobada-7-juliol.jpg
CATEGORIES:Cultura,Esdeveniments,newsletter
LOCATION:Torre del Senyor Enric\, Isidre Vallés\, 1\, Els Hostalets de Pie
 rola\, Spain\, 808781\, Espanya
GEO:41.5339863;1.7696766000000252
X-APPLE-STRUCTURED-LOCATION;VALUE=URI;X-ADDRESS=Isidre Vallés\, 1\, Els Ho
 stalets de Pierola\, Spain\, 808781\, Espanya;X-APPLE-RADIUS=100;X-TITLE=T
 orre del Senyor Enric:geo:41.5339863,1.7696766000000252
END:VEVENT
END:VCALENDAR