BEGIN:VCALENDAR
VERSION:2.0
PRODID:-//wp-events-plugin.com//7.2.3//EN
TZID:Europe/Madrid
X-WR-TIMEZONE:Europe/Madrid
BEGIN:VEVENT
UID:598@elshostaletsdepierola.cat
DTSTART:20180907T210000Z
DTEND:20180907T230000Z
DTSTAMP:20180906T101205Z
URL:https://elshostaletsdepierola.cat/events/7-setembre-sopar-multi-cultur
 al/
SUMMARY:7 setembre. Sopar multi-cultural.
DESCRIPTION:Sopar multi-cultural organitzat per l'Associacio´Salam.
ATTACH;FMTTYPE=image/jpeg:https://elshostaletsdepierola.cat/wp-content/upl
 oads/2018/08/cartell-sopar-intercultural-18.jpg
CATEGORIES:Cultura,Esdeveniments,newsletter
LOCATION:Plaça de les Oliveres\, carrer de Catalunya s/n\, Els Hostalets d
 e Pierola\, 08781\, Catalunya\, Espanya
GEO:41.532476;1.7700234000000137
X-APPLE-STRUCTURED-LOCATION;VALUE=URI;X-ADDRESS=carrer de Catalunya s/n\, E
 ls Hostalets de Pierola\, 08781\, Catalunya\, Espanya;X-APPLE-RADIUS=100;X
 -TITLE=Plaça de les Oliveres:geo:41.532476,1.7700234000000137
END:VEVENT
END:VCALENDAR