BEGIN:VCALENDAR
VERSION:2.0
PRODID:-//wp-events-plugin.com//7.2.3//EN
TZID:Europe/Madrid
X-WR-TIMEZONE:Europe/Madrid
BEGIN:VEVENT
UID:603@elshostaletsdepierola.cat
DTSTART;VALUE=DATE:20180908
DTEND;VALUE=DATE:20180912
DTSTAMP:20180830T111004Z
URL:https://elshostaletsdepierola.cat/events/8-11-setembre-festes-diada-ca
 t/
SUMMARY:8-11 setembre. Festes de la Diada de Catalunya
DESCRIPTION:Tota la informació i programa d'activitats aquí.
ATTACH;FMTTYPE=image/jpeg:https://elshostaletsdepierola.cat/wp-content/upl
 oads/2018/08/castells-17.jpg
CATEGORIES:Cultura,Esdeveniments,Turisme
END:VEVENT
END:VCALENDAR