BEGIN:VCALENDAR
VERSION:2.0
PRODID:-//wp-events-plugin.com//7.2.3//EN
TZID:Europe/Madrid
X-WR-TIMEZONE:Europe/Madrid
BEGIN:VEVENT
UID:560@elshostaletsdepierola.cat
DTSTART:20180708T120000Z
DTEND:20180708T140000Z
DTSTAMP:20180705T180027Z
URL:https://elshostaletsdepierola.cat/events/8-juliol-mullat-esclerosi-mul
 tiple/
SUMMARY:8 juliol. Mulla't per l'esclerosi múltiple
DESCRIPTION:
ATTACH;FMTTYPE=image/jpeg:https://elshostaletsdepierola.cat/wp-content/upl
 oads/2018/06/mullat2018-1dd.jpg
CATEGORIES:Esdeveniments,Esport,newsletter
LOCATION:Piscina dels Hostalets de Pierola\, carrer de Pau Casals\, 1\, Els
  Hostalets de Pierola\, Barcelona\, Catalunya\, Espanya
GEO:41.53357;1.7669399999999769
X-APPLE-STRUCTURED-LOCATION;VALUE=URI;X-ADDRESS=carrer de Pau Casals\, 1\, 
 Els Hostalets de Pierola\, Barcelona\, Catalunya\, Espanya;X-APPLE-RADIUS=
 100;X-TITLE=Piscina dels Hostalets de Pierola:geo:41.53357,1.7669399999999
 769
END:VEVENT
END:VCALENDAR