BEGIN:VCALENDAR
VERSION:2.0
PRODID:-//wp-events-plugin.com//7.2.3//EN
TZID:Europe/Madrid
X-WR-TIMEZONE:Europe/Madrid
BEGIN:VEVENT
UID:1238@elshostaletsdepierola.cat
DTSTART:20210508T080000Z
DTEND:20210508T120000Z
DTSTAMP:20210507T100938Z
URL:https://elshostaletsdepierola.cat/events/8-maig-1a-jornada-prevencio-i
 ncendis/
SUMMARY:8 maig. 1a jornada prevenció incendis
DESCRIPTION:
ATTACH;FMTTYPE=image/jpeg:https://elshostaletsdepierola.cat/wp-content/upl
 oads/2021/05/prevencio-incendis.png
CATEGORIES:Esdeveniments,Medi Ambient
LOCATION:Casal Montserrat Can Fosalba\, Can Fosalba\, Els Hostalets de Pier
 ola\, Espanya
GEO:41.5444542;1.8107836000000361
X-APPLE-STRUCTURED-LOCATION;VALUE=URI;X-ADDRESS=Can Fosalba\, Els Hostalets
  de Pierola\, Espanya;X-APPLE-RADIUS=100;X-TITLE=Casal Montserrat Can Fosa
 lba:geo:41.5444542,1.8107836000000361
END:VEVENT
END:VCALENDAR