BEGIN:VCALENDAR
VERSION:2.0
PRODID:-//wp-events-plugin.com//7.2.3//EN
TZID:Europe/Madrid
X-WR-TIMEZONE:Europe/Madrid
BEGIN:VEVENT
UID:482@elshostaletsdepierola.cat
DTSTART:20180308T210000Z
DTEND:20180310T200000Z
DTSTAMP:20180301T135502Z
URL:https://elshostaletsdepierola.cat/events/8-marc-dia-internacional-done
 s/
SUMMARY:8 març. Dia Internacional de les Dones
DESCRIPTION:Tota la informació i programa aquí.
ATTACH;FMTTYPE=image/jpeg:https://elshostaletsdepierola.cat/wp-content/upl
 oads/2018/03/cartell.jpg
CATEGORIES:Cultura,Esdeveniments,newsletter
LOCATION:Auditori de Cal Figueres\, Plaça Cal Figueres 1\, Hostalets de Pi
 erola\, Espanya
GEO:41.5348287;1.7685406000000512
X-APPLE-STRUCTURED-LOCATION;VALUE=URI;X-ADDRESS=Plaça Cal Figueres 1\, Hos
 talets de Pierola\, Espanya;X-APPLE-RADIUS=100;X-TITLE=Auditori de Cal Fig
 ueres:geo:41.5348287,1.7685406000000512
END:VEVENT
END:VCALENDAR