BEGIN:VCALENDAR
VERSION:2.0
PRODID:-//wp-events-plugin.com//7.2.3//EN
TZID:Europe/Madrid
X-WR-TIMEZONE:Europe/Madrid
BEGIN:VEVENT
UID:1075@elshostaletsdepierola.cat
DTSTART:20200308T110000Z
DTEND:20200308T190000Z
DTSTAMP:20200305T094123Z
URL:https://elshostaletsdepierola.cat/events/8-marc-programa-dia-de-la-don
 a-2020/
SUMMARY:8 març. Programa Dia de la Dona 2020
DESCRIPTION:
ATTACH;FMTTYPE=image/jpeg:https://elshostaletsdepierola.cat/wp-content/upl
 oads/2020/03/dd83.png
CATEGORIES:Acció social,Esdeveniments,newsletter
LOCATION:Plaça Eladi Conde\, Plaça Eladi Conde\, Els Hostalets de Pierola
 \, Espanya
GEO:41.5369908;1.7658020000000079
X-APPLE-STRUCTURED-LOCATION;VALUE=URI;X-ADDRESS=Plaça Eladi Conde\, Els Ho
 stalets de Pierola\, Espanya;X-APPLE-RADIUS=100;X-TITLE=Plaça Eladi Conde
 :geo:41.5369908,1.7658020000000079
END:VEVENT
END:VCALENDAR