BEGIN:VCALENDAR
VERSION:2.0
PRODID:-//wp-events-plugin.com//7.2.3//EN
TZID:Europe/Madrid
X-WR-TIMEZONE:Europe/Madrid
BEGIN:VEVENT
UID:2402@elshostaletsdepierola.cat
DTSTART;TZID=Europe/Madrid:20240309T110000
DTEND;TZID=Europe/Madrid:20240309T191500
DTSTAMP:20240305T164842Z
URL:https://elshostaletsdepierola.cat/events/8m24b/
SUMMARY:Actes del 8M (dissabte)
DESCRIPTION:Dissabte 9 de març\n\n11.00: Caminada popular per les Dones.\n
 Sortida plaça Cal Figueres\nRecorregut per a totes les edats de 4 km i mi
 g. Entrega d’obsequi.\nOrganitza Associació de Dones dels Hostalets de 
 Pierola.\n18.00: Xoco-Tertúlia\, Taula rodona en diversitat de dones a l
 ’Auditori Cal Figueres.\nEntrega d’obsequi.\n\nDiumenge 10 de març\n\
 n10.00: Lliga femenina de futbol\, al Camp Municipal d’Esports\nPartit d
 el CF Hostalets – Igualada D (Infantil femení)\n11.00: Taller participa
 tiu de Biodansa\, al parc de Cal Ponsa.\na càrrec de la Laia Forcadell 
 ‘Fem Poble’.\n12.30: Exhibició i masterclass de zumba\, a la plaça d
 e Lola Anglada\nAmb l’Escola de Ball Anna Valls\, exhibició de gimnàst
 ica rítmica a càrrec del l’extraescolar de l’AFA de l’Institut Esc
 ola Renaixença.\nTot seguit\, Concert a càrrec de Maria Escudero\namb re
 pertori escrit per cantautores femenines.\nVermut gestionat per l’ARC ju
 venil.\n17.00: Mostra de patinatge\, sota la carpa de la pista poliesporti
 va\nCoreografia amb la que el club hostaletenc participarà al I OPEN CAT 
 XOUS Nivell 2 Promoció de Girona.
ATTACH;FMTTYPE=image/jpeg:https://elshostaletsdepierola.cat/wp-content/upl
 oads/2024/02/8m-xxss-1x1-1.png
CATEGORIES:Acció social,Esdeveniments
END:VEVENT
BEGIN:VTIMEZONE
TZID:Europe/Madrid
X-LIC-LOCATION:Europe/Madrid
BEGIN:STANDARD
DTSTART:20231029T020000
TZOFFSETFROM:+0200
TZOFFSETTO:+0100
TZNAME:CET
END:STANDARD
END:VTIMEZONE
END:VCALENDAR