BEGIN:VCALENDAR
VERSION:2.0
PRODID:-//wp-events-plugin.com//7.2.3//EN
TZID:Europe/Madrid
X-WR-TIMEZONE:Europe/Madrid
BEGIN:VEVENT
UID:345@elshostaletsdepierola.cat
DTSTART:20170809T230000Z
DTEND:20170809T230000Z
DTSTAMP:20170731T083838Z
URL:https://elshostaletsdepierola.cat/events/9-agost-musica-fresca-deliriu
 m-band/
SUMMARY:9 agost. Música a la Fresca. Delirium Band
DESCRIPTION:Dimecres\, 9 d'agost\, dins del cicle de Música a la Fresca or
 ganitzat pel Casal Català\, concert de 'Delirium Band'.
ATTACH;FMTTYPE=image/jpeg:https://elshostaletsdepierola.cat/wp-content/upl
 oads/2017/07/5jul-concerts-a-la-fresca.jpg
CATEGORIES:Cultura,Esdeveniments
LOCATION:Casal Català\, Isidre Vallès\, 30\, Els Hostalets de Pierola\, C
 atalunya\, 808781\, Espanya
GEO:41.5334999;1.7705200000000332
X-APPLE-STRUCTURED-LOCATION;VALUE=URI;X-ADDRESS=Isidre Vallès\, 30\, Els H
 ostalets de Pierola\, Catalunya\, 808781\, Espanya;X-APPLE-RADIUS=100;X-TI
 TLE=Casal Català:geo:41.5334999,1.7705200000000332
END:VEVENT
END:VCALENDAR