BEGIN:VCALENDAR
VERSION:2.0
PRODID:-//wp-events-plugin.com//7.2.3//EN
TZID:Europe/Madrid
X-WR-TIMEZONE:Europe/Madrid
BEGIN:VEVENT
UID:110@elshostaletsdepierola.cat
DTSTART:20160509T183000Z
DTEND:20160509T193000Z
DTSTAMP:20160503T092947Z
URL:https://elshostaletsdepierola.cat/events/9-maig-punt-jove-xerrada-sobr
 e-voluntariat-lestranger/
SUMMARY:9 de maig. Punt Jove: Xerrada sobre voluntariat a l'estranger
DESCRIPTION:
ATTACH;FMTTYPE=image/jpeg:https://elshostaletsdepierola.cat/wp-content/upl
 oads/2016/04/Mobilitat-internacional_voluntariat-a-lestranger.jpg
CATEGORIES:Esdeveniments,Joventut,newsletter
LOCATION:Torre del Sr. Enric\, Plaça Eladi Conde s/n\, Els Hostalets de Pi
 erola\, Catalunya\, 808781\, Espanya
GEO:41.5369908;1.7658020000000079
X-APPLE-STRUCTURED-LOCATION;VALUE=URI;X-ADDRESS=Plaça Eladi Conde s/n\, El
 s Hostalets de Pierola\, Catalunya\, 808781\, Espanya;X-APPLE-RADIUS=100;X
 -TITLE=Torre del Sr. Enric:geo:41.5369908,1.7658020000000079
END:VEVENT
END:VCALENDAR