BEGIN:VCALENDAR
VERSION:2.0
PRODID:-//wp-events-plugin.com//7.2.3//EN
TZID:Europe/Madrid
X-WR-TIMEZONE:Europe/Madrid
BEGIN:VEVENT
UID:1151@elshostaletsdepierola.cat
DTSTART:20201009T150000Z
DTEND:20201012T190000Z
DTSTAMP:20201008T144627Z
URL:https://elshostaletsdepierola.cat/events/9-octubre-exposicio-eugeni-ja
 ne/
SUMMARY:9 octubre. Exposició Eugeni Jané
DESCRIPTION:
ATTACH;FMTTYPE=image/jpeg:https://elshostaletsdepierola.cat/wp-content/upl
 oads/2020/10/screenshot_20201005-122621_drive.jpg
CATEGORIES:Cultura,Esdeveniments,newsletter
LOCATION:Espai de Cultura Cal Batista\, Carrer Major\, 1\, Els Hostalets de
  Pierola\, Espanya
GEO:41.385059;1.9314653000000135
X-APPLE-STRUCTURED-LOCATION;VALUE=URI;X-ADDRESS=Carrer Major\, 1\, Els Host
 alets de Pierola\, Espanya;X-APPLE-RADIUS=100;X-TITLE=Espai de Cultura Cal
  Batista:geo:41.385059,1.9314653000000135
END:VEVENT
END:VCALENDAR