BEGIN:VCALENDAR
VERSION:2.0
PRODID:-//wp-events-plugin.com//7.2.3//EN
TZID:Europe/Madrid
X-WR-TIMEZONE:Europe/Madrid
BEGIN:VEVENT
UID:42@elshostaletsdepierola.cat
DTSTART:20160124T100000Z
DTEND:20160124T140000Z
DTSTAMP:20160111T121735Z
URL:https://elshostaletsdepierola.cat/events/9e-cross-escolar-i-14a-cursa-
 del-consell-esportiu-de-lanoia/
SUMMARY:9è Cross escolar i 14a cursa del Consell Esportiu de l'Anoia
DESCRIPTION:
CATEGORIES:Esdeveniments,Esport
END:VEVENT
END:VCALENDAR