BEGIN:VCALENDAR
VERSION:2.0
PRODID:-//wp-events-plugin.com//7.2.3//EN
TZID:Europe/Madrid
X-WR-TIMEZONE:Europe/Madrid
BEGIN:VEVENT
UID:2131@elshostaletsdepierola.cat
DTSTART;TZID=Europe/Madrid:20230713T170000
DTEND;TZID=Europe/Madrid:20230713T210000
DTSTAMP:20230713T030805Z
URL:https://elshostaletsdepierola.cat/events/acapte-de-sang-5/
SUMMARY:Acapte de sang
DESCRIPTION:
ATTACH;FMTTYPE=image/jpeg:https://elshostaletsdepierola.cat/wp-content/upl
 oads/2023/07/img_0982.jpeg
CATEGORIES:Acció social,Esdeveniments,newsletter
LOCATION:Auditori Cal Figueres\, Poliesportiu Municipal\, Hostalets de Pier
 ola\, Espanya
GEO:41.534829;1.768541
X-APPLE-STRUCTURED-LOCATION;VALUE=URI;X-ADDRESS=Poliesportiu Municipal\, Ho
 stalets de Pierola\, Espanya;X-APPLE-RADIUS=100;X-TITLE=Auditori Cal Figue
 res:geo:41.534829,1.768541
END:VEVENT
BEGIN:VTIMEZONE
TZID:Europe/Madrid
X-LIC-LOCATION:Europe/Madrid
BEGIN:DAYLIGHT
DTSTART:20230326T030000
TZOFFSETFROM:+0100
TZOFFSETTO:+0200
TZNAME:CEST
END:DAYLIGHT
END:VTIMEZONE
END:VCALENDAR