BEGIN:VCALENDAR
VERSION:2.0
PRODID:-//wp-events-plugin.com//7.2.3//EN
TZID:Europe/Madrid
X-WR-TIMEZONE:Europe/Madrid
BEGIN:VEVENT
UID:2880@elshostaletsdepierola.cat
DTSTART;TZID=Europe/Madrid:20260109T160000
DTEND;TZID=Europe/Madrid:20260109T200000
DTSTAMP:20260104T095945Z
URL:https://elshostaletsdepierola.cat/events/acapte-de-sang-9/
SUMMARY:Acapte de sang
DESCRIPTION:Més informació:\nMarató de la sang als Hostalets\nHorari de 
 16.00 a 20.00\nAuditori Cal Figueres\nReseves
ATTACH;FMTTYPE=image/jpeg:https://elshostaletsdepierola.cat/wp-content/upl
 oads/2025/06/acaptesang-1.png
CATEGORIES:Esdeveniments,Salut
LOCATION:Auditori Cal Figueres\, Poliesportiu Municipal\, Hostalets de Pier
 ola\, Espanya
GEO:41.534829;1.768541
X-APPLE-STRUCTURED-LOCATION;VALUE=URI;X-ADDRESS=Poliesportiu Municipal\, Ho
 stalets de Pierola\, Espanya;X-APPLE-RADIUS=100;X-TITLE=Auditori Cal Figue
 res:geo:41.534829,1.768541
END:VEVENT
BEGIN:VTIMEZONE
TZID:Europe/Madrid
X-LIC-LOCATION:Europe/Madrid
BEGIN:STANDARD
DTSTART:20251026T020000
TZOFFSETFROM:+0200
TZOFFSETTO:+0100
TZNAME:CET
END:STANDARD
END:VTIMEZONE
END:VCALENDAR