BEGIN:VCALENDAR
VERSION:2.0
PRODID:-//wp-events-plugin.com//7.2.3//EN
TZID:Europe/Madrid
X-WR-TIMEZONE:Europe/Madrid
BEGIN:VEVENT
UID:1606@elshostaletsdepierola.cat
DTSTART;TZID=Europe/Madrid:20220510T180000
DTEND;TZID=Europe/Madrid:20220510T200000
DTSTAMP:20220505T073812Z
URL:https://elshostaletsdepierola.cat/events/activat-amb-la-musica-sgg22/
SUMMARY:Activa't amb la música (SGG22)
DESCRIPTION:
ATTACH;FMTTYPE=image/jpeg:https://elshostaletsdepierola.cat/wp-content/upl
 oads/2022/04/img-6653.jpg
CATEGORIES:Cultura,Esdeveniments,Festes,Gent Gran,newsletter
LOCATION:Casal d'Avis\, Plaça de Cal Figueres\, 1\, Els Hostalets de Piero
 la\, Catalunya\, 808781\, Espanya
GEO:41.5348287;1.7685406000000512
X-APPLE-STRUCTURED-LOCATION;VALUE=URI;X-ADDRESS=Plaça de Cal Figueres\, 1\
 , Els Hostalets de Pierola\, Catalunya\, 808781\, Espanya;X-APPLE-RADIUS=1
 00;X-TITLE=Casal d'Avis:geo:41.5348287,1.7685406000000512
END:VEVENT
BEGIN:VTIMEZONE
TZID:Europe/Madrid
X-LIC-LOCATION:Europe/Madrid
BEGIN:DAYLIGHT
DTSTART:20220327T030000
TZOFFSETFROM:+0100
TZOFFSETTO:+0200
TZNAME:CEST
END:DAYLIGHT
END:VTIMEZONE
END:VCALENDAR