BEGIN:VCALENDAR
VERSION:2.0
PRODID:-//wp-events-plugin.com//7.2.3//EN
TZID:Europe/Madrid
X-WR-TIMEZONE:Europe/Madrid
BEGIN:VEVENT
UID:14@elshostaletsdepierola.cat
DTSTART:20151115T180000Z
DTEND:20151115T200000Z
DTSTAMP:20151126T114352Z
URL:https://elshostaletsdepierola.cat/events/amics-de-la-musica-concert-de
 l-cor-infantil-cor-de-la-unio/
SUMMARY:Amics de la Música: concert del cor infantil Cor de la Unió
DESCRIPTION:
ATTACH;FMTTYPE=image/jpeg:https://elshostaletsdepierola.cat/wp-content/upl
 oads/2015/11/amics_de_la_música._cor_de_la_unio.png
CATEGORIES:Esdeveniments
LOCATION:Auditori Cal Figueres\, Poliesportiu Municipal\, Hostalets de Pier
 ola\, Espanya
GEO:41.534829;1.768541
X-APPLE-STRUCTURED-LOCATION;VALUE=URI;X-ADDRESS=Poliesportiu Municipal\, Ho
 stalets de Pierola\, Espanya;X-APPLE-RADIUS=100;X-TITLE=Auditori Cal Figue
 res:geo:41.534829,1.768541
END:VEVENT
END:VCALENDAR