BEGIN:VCALENDAR
VERSION:2.0
PRODID:-//wp-events-plugin.com//7.2.3//EN
TZID:Europe/Madrid
X-WR-TIMEZONE:Europe/Madrid
BEGIN:VEVENT
UID:36@elshostaletsdepierola.cat
DTSTART:20160103T123000Z
DTEND:20160103T140000Z
DTSTAMP:20151228T113204Z
URL:https://elshostaletsdepierola.cat/events/arribada-patge-txelin/
SUMMARY:Arribada del Patge Txelín
DESCRIPTION:
CATEGORIES:Esdeveniments
LOCATION:Carrer Esglesia i Plaça Dr. Conde\, Carrer Esglesia i Plaça Dr. 
 Conde\, Els Hostalets de Pierola\, Barcelona\, 08781\, Espanya
GEO:41.5348287;1.7685406000000512
X-APPLE-STRUCTURED-LOCATION;VALUE=URI;X-ADDRESS=Carrer Esglesia i Plaça Dr
 . Conde\, Els Hostalets de Pierola\, Barcelona\, 08781\, Espanya;X-APPLE-R
 ADIUS=100;X-TITLE=Carrer Esglesia i Plaça Dr. Conde:geo:41.5348287,1.7685
 406000000512
END:VEVENT
END:VCALENDAR