BEGIN:VCALENDAR
VERSION:2.0
PRODID:-//wp-events-plugin.com//7.2.3//EN
TZID:Europe/Madrid
X-WR-TIMEZONE:Europe/Madrid
BEGIN:VEVENT
UID:53@elshostaletsdepierola.cat
DTSTART:20160213T213000Z
DTEND:20160213T235900Z
DTSTAMP:20160211T142444Z
URL:https://elshostaletsdepierola.cat/events/ball-de-carnestoltes-al-casal
 -catala/
SUMMARY:Ball de Carnestoltes al Casal Català
DESCRIPTION:21.30h. Entrada a les persones disfressades\n\n22.00h. Portes o
 bertes a tothom\n\nSocis: entrada lliure\n\nNo socis: 3€\n\nGratuït: Di
 sfressats i passant per la passarel·la.
ATTACH;FMTTYPE=image/jpeg:https://elshostaletsdepierola.cat/wp-content/upl
 oads/2016/02/carnestoltes_2016baix.jpg
CATEGORIES:Cultura,Esdeveniments,newsletter
LOCATION:Sala Casal Catala\, Plaça Cal Figueres 1\, Hostalets de Pierola\,
  Espanya
GEO:41.5348287;1.7685406000000512
X-APPLE-STRUCTURED-LOCATION;VALUE=URI;X-ADDRESS=Plaça Cal Figueres 1\, Hos
 talets de Pierola\, Espanya;X-APPLE-RADIUS=100;X-TITLE=Sala Casal Catala:g
 eo:41.5348287,1.7685406000000512
END:VEVENT
END:VCALENDAR