BEGIN:VCALENDAR
VERSION:2.0
PRODID:-//wp-events-plugin.com//7.2.3//EN
TZID:Europe/Madrid
X-WR-TIMEZONE:Europe/Madrid
BEGIN:VEVENT
UID:2354@elshostaletsdepierola.cat
DTSTART;TZID=Europe/Madrid:20240131T180000
DTEND;TZID=Europe/Madrid:20240131T200000
DTSTAMP:20240123T101600Z
URL:https://elshostaletsdepierola.cat/events/bingo-al-casal-de-la-gent-gra
 n-11/
SUMMARY:Bingo al Casal de la Gent Gran
DESCRIPTION:Dimecres 31 de gener 18.00\nCasal de la Gent Gran\nEntrada lliu
 re.\n\nMés informació:\nAjuntament 937712112 / Silvestre Rubio: 63683852
 6
ATTACH;FMTTYPE=image/jpeg:https://elshostaletsdepierola.cat/wp-content/upl
 oads/2023/09/img_2599.jpg
CATEGORIES:Esdeveniments,Gent Gran
LOCATION:Hostalets de Pierola\, Plaça Cal Figueres\, Els Hostalets de Pier
 ola\, Barcelona\, 08784\, Espanya
GEO:41.5340289;1.770080499999949
X-APPLE-STRUCTURED-LOCATION;VALUE=URI;X-ADDRESS=Plaça Cal Figueres\, Els H
 ostalets de Pierola\, Barcelona\, 08784\, Espanya;X-APPLE-RADIUS=100;X-TIT
 LE=Hostalets de Pierola:geo:41.5340289,1.770080499999949
END:VEVENT
BEGIN:VTIMEZONE
TZID:Europe/Madrid
X-LIC-LOCATION:Europe/Madrid
BEGIN:STANDARD
DTSTART:20231029T020000
TZOFFSETFROM:+0200
TZOFFSETTO:+0100
TZNAME:CET
END:STANDARD
END:VTIMEZONE
END:VCALENDAR