BEGIN:VCALENDAR
VERSION:2.0
PRODID:-//wp-events-plugin.com//7.2.3//EN
TZID:Europe/Madrid
X-WR-TIMEZONE:Europe/Madrid
BEGIN:VEVENT
UID:2274@elshostaletsdepierola.cat
DTSTART;TZID=Europe/Madrid:20231031T203000
DTEND;TZID=Europe/Madrid:20231031T203000
DTSTAMP:20231031T073150Z
URL:https://elshostaletsdepierola.cat/events/bosc-del-terror-al-poliesport
 iu-serra-alta/
SUMMARY:Bosc del terror
DESCRIPTION:Dimarts 31 d'octubre a partir de les 20:30 hores al poliesporti
 u Serra Alta\n\n 	Sopars i servei durant tota la nit\n 	A les 20:30h\, Bos
 c del terror\n 	A les 22:00h DJ Carlos\n\nMés informació i reserves al 6
 95 78 37 36\n\nInstagram: @CSPserralta
ATTACH;FMTTYPE=image/jpeg:https://elshostaletsdepierola.cat/wp-content/upl
 oads/2023/10/boscterror.jpg
CATEGORIES:Esdeveniments,Festes
END:VEVENT
BEGIN:VTIMEZONE
TZID:Europe/Madrid
X-LIC-LOCATION:Europe/Madrid
BEGIN:STANDARD
DTSTART:20231029T020000
TZOFFSETFROM:+0200
TZOFFSETTO:+0100
TZNAME:CET
END:STANDARD
END:VTIMEZONE
END:VCALENDAR