BEGIN:VCALENDAR
VERSION:2.0
PRODID:-//wp-events-plugin.com//7.2.3//EN
TZID:Europe/Madrid
X-WR-TIMEZONE:Europe/Madrid
BEGIN:VEVENT
UID:2939@elshostaletsdepierola.cat
DTSTART;TZID=Europe/Madrid:20260417T190000
DTEND;TZID=Europe/Madrid:20260417T203000
DTSTAMP:20260401T072140Z
URL:https://elshostaletsdepierola.cat/events/cacics-i-rabassaires/
SUMMARY:Cacics i rabassaires
DESCRIPTION:Presentació del llibre a càrrec de Jordi Planes\, professor d
 el departament d'història de la UB i coautor del llibre juntament amb Fra
 ncesc Valls-Junyent\, i Josep Colomé\, professor del departament d'histò
 ria de la UB.
ATTACH;FMTTYPE=image/jpeg:https://elshostaletsdepierola.cat/wp-content/upl
 oads/2026/04/cacicsrabassaires.png
CATEGORIES:Cultura,Esdeveniments
LOCATION:Arxiu Municipal Francesc Valls-Junyent\, Carrer Església 4\, Els 
 Hostalets de Pierola\, Catalunya\, Espanya
X-APPLE-STRUCTURED-LOCATION;VALUE=URI;X-ADDRESS=Carrer Església 4\, Els Ho
 stalets de Pierola\, Catalunya\, Espanya;X-APPLE-RADIUS=100;X-TITLE=Arxiu 
 Municipal Francesc Valls-Junyent:geo:0,0
END:VEVENT
BEGIN:VTIMEZONE
TZID:Europe/Madrid
X-LIC-LOCATION:Europe/Madrid
BEGIN:DAYLIGHT
DTSTART:20260329T030000
TZOFFSETFROM:+0100
TZOFFSETTO:+0200
TZNAME:CEST
END:DAYLIGHT
END:VTIMEZONE
END:VCALENDAR