BEGIN:VCALENDAR
VERSION:2.0
PRODID:-//wp-events-plugin.com//7.2.3//EN
TZID:Europe/Madrid
X-WR-TIMEZONE:Europe/Madrid
BEGIN:VEVENT
UID:154@elshostaletsdepierola.cat
DTSTART:20160718T183000Z
DTEND:20160718T193000Z
DTSTAMP:20160714T112959Z
URL:https://elshostaletsdepierola.cat/events/cafe-tertulia-gent-gran-segur
 etat-casa/
SUMMARY:18 de juliol. Cafè Tertúlia de la Gent Gran: "Seguretat a casa"
DESCRIPTION:Un agent Mosso d'Esquadra explicarà com podem protegir-nos mil
 lor dels furts i robartoris\, especialment freqüents durant l'estiu.\n\nT
 ambé s'acomiadarà d'aquest curs amb un brindis i un pica-pica molt espec
 ial.
ATTACH;FMTTYPE=image/jpeg:https://elshostaletsdepierola.cat/wp-content/upl
 oads/2016/07/cafe-tetulia-juliol-16.jpg
CATEGORIES:Esdeveniments,Gent Gran,newsletter
LOCATION:Casal d'avis\, Plaça Cal Figueres 1\, Hostalets de Pierola\, Espa
 nya
GEO:41.5348287;1.7685406000000512
X-APPLE-STRUCTURED-LOCATION;VALUE=URI;X-ADDRESS=Plaça Cal Figueres 1\, Hos
 talets de Pierola\, Espanya;X-APPLE-RADIUS=100;X-TITLE=Casal d'avis:geo:41
 .5348287,1.7685406000000512
END:VEVENT
END:VCALENDAR