BEGIN:VCALENDAR
VERSION:2.0
PRODID:-//wp-events-plugin.com//7.2.3//EN
TZID:Europe/Madrid
X-WR-TIMEZONE:Europe/Madrid
BEGIN:VEVENT
UID:131@elshostaletsdepierola.cat
DTSTART:20160613T173000Z
DTEND:20160613T190000Z
DTSTAMP:20160608T080940Z
URL:https://elshostaletsdepierola.cat/events/cafe-tertulia-gent-gran-testa
 ments-herencies/
SUMMARY:13 de juny. Cafè Tertúlia de la Gent Gran: testaments i herèncie
 s
DESCRIPTION:
ATTACH;FMTTYPE=image/jpeg:https://elshostaletsdepierola.cat/wp-content/upl
 oads/2016/06/cafes-tertúlia-juny-16.jpg
CATEGORIES:Esdeveniments,Gent Gran,newsletter
LOCATION:Casal d'avis\, Plaça Cal Figueres 1\, Hostalets de Pierola\, Espa
 nya
GEO:41.5348287;1.7685406000000512
X-APPLE-STRUCTURED-LOCATION;VALUE=URI;X-ADDRESS=Plaça Cal Figueres 1\, Hos
 talets de Pierola\, Espanya;X-APPLE-RADIUS=100;X-TITLE=Casal d'avis:geo:41
 .5348287,1.7685406000000512
END:VEVENT
END:VCALENDAR