BEGIN:VCALENDAR
VERSION:2.0
PRODID:-//wp-events-plugin.com//7.2.3//EN
TZID:Europe/Madrid
X-WR-TIMEZONE:Europe/Madrid
BEGIN:VEVENT
UID:245@elshostaletsdepierola.cat
DTSTART:20170123T183000Z
DTEND:20170123T200000Z
DTSTAMP:20170118T085401Z
URL:https://elshostaletsdepierola.cat/events/cafe-tertulia-gran-prevencio-
 incendis/
SUMMARY:23 gener. Cafè Tertúlia Gent Gran: Prevenció d'incendis a casa
DESCRIPTION:Prevenció d'incendis a Casa:\n\nEls cos de bombers voluntaris 
 s'acosten al Casal d'Avis dels Hostalets de Pierola per explicar com es po
 den prevenir accidents a casa i com actuar en cas que es produeixi un ince
 ndi domèstic.
ATTACH;FMTTYPE=image/jpeg:https://elshostaletsdepierola.cat/wp-content/upl
 oads/2017/01/bombers-incendis-a-casa.jpg
CATEGORIES:Esdeveniments,Gent Gran,newsletter
LOCATION:Casal d'avis\, Plaça Cal Figueres 1\, Hostalets de Pierola\, Espa
 nya
GEO:41.5348287;1.7685406000000512
X-APPLE-STRUCTURED-LOCATION;VALUE=URI;X-ADDRESS=Plaça Cal Figueres 1\, Hos
 talets de Pierola\, Espanya;X-APPLE-RADIUS=100;X-TITLE=Casal d'avis:geo:41
 .5348287,1.7685406000000512
END:VEVENT
END:VCALENDAR