BEGIN:VCALENDAR
VERSION:2.0
PRODID:-//wp-events-plugin.com//7.2.3//EN
TZID:Europe/Madrid
X-WR-TIMEZONE:Europe/Madrid
BEGIN:VEVENT
UID:2244@elshostaletsdepierola.cat
DTSTART;TZID=Europe/Madrid:20231023T180000
DTEND;TZID=Europe/Madrid:20231023T193000
DTSTAMP:20231009T124112Z
URL:https://elshostaletsdepierola.cat/events/cafe-tertulia-que-es-i-que-en
 s-aporta-el-mindfulness/
SUMMARY:Cafè-Tertúlia: "Què es i què ens aporta el Mindfulness"
DESCRIPTION:El proper dilluns 23 d'octubre\, a les 18 hores\, el Casal d'Av
 is acollirà una sessió de Cafè-tertúlia que porta per títol "Què és
  i què ens aporta el mindfulness". La sessió anirà a càrrec de Teresa 
 Maria Bujons\, referent de benestar emocional comunitari.\n\nS'oferirà un
  refrigeri saludable a totes les persones assistents.\n\n&nbsp\;
ATTACH;FMTTYPE=image/jpeg:https://elshostaletsdepierola.cat/wp-content/upl
 oads/2023/10/cafetertulia.png
CATEGORIES:Esdeveniments,Gent Gran
END:VEVENT
BEGIN:VTIMEZONE
TZID:Europe/Madrid
X-LIC-LOCATION:Europe/Madrid
BEGIN:DAYLIGHT
DTSTART:20230326T030000
TZOFFSETFROM:+0100
TZOFFSETTO:+0200
TZNAME:CEST
END:DAYLIGHT
END:VTIMEZONE
END:VCALENDAR