BEGIN:VCALENDAR
VERSION:2.0
PRODID:-//wp-events-plugin.com//7.2.3//EN
TZID:Europe/Madrid
X-WR-TIMEZONE:Europe/Madrid
BEGIN:VEVENT
UID:2382@elshostaletsdepierola.cat
DTSTART;TZID=Europe/Madrid:20240226T180000
DTEND;TZID=Europe/Madrid:20240226T180000
DTSTAMP:20240222T162212Z
URL:https://elshostaletsdepierola.cat/events/cafetertuliafebrer24-2/
SUMMARY:Cafè-tertúlia "Parlem d'Isabel. La construcció d'un mite"
DESCRIPTION:Dilluns 26 de febrer\nCasal de la Gent Gran 18.00h\nA càrrec d
 e la historiadora Marta Diago\n\nXerrada al voltant de la figura d'Isabel 
 La Catòlica
ATTACH;FMTTYPE=image/jpeg:https://elshostaletsdepierola.cat/wp-content/upl
 oads/2024/02/xerrada.png
CATEGORIES:Esdeveniments,Gent Gran,newsletter
LOCATION:Casal de la Gent Gran\, Plaça de Cal Figueres\, 1\, Els Hostalets
  de Pierola\, Catalunya\, 808781\, Espanya
GEO:41.5348287;1.7685406000000512
X-APPLE-STRUCTURED-LOCATION;VALUE=URI;X-ADDRESS=Plaça de Cal Figueres\, 1\
 , Els Hostalets de Pierola\, Catalunya\, 808781\, Espanya;X-APPLE-RADIUS=1
 00;X-TITLE=Casal de la Gent Gran:geo:41.5348287,1.7685406000000512
END:VEVENT
BEGIN:VTIMEZONE
TZID:Europe/Madrid
X-LIC-LOCATION:Europe/Madrid
BEGIN:STANDARD
DTSTART:20231029T020000
TZOFFSETFROM:+0200
TZOFFSETTO:+0100
TZNAME:CET
END:STANDARD
END:VTIMEZONE
END:VCALENDAR